BEGIN:VCALENDAR
VERSION:2.0
PRODID:-//Mountainside Montessori - ECPv6.2.9//NONSGML v1.0//EN
CALSCALE:GREGORIAN
METHOD:PUBLISH
X-ORIGINAL-URL:https://mountainsidemontessori.com
X-WR-CALDESC:Events for Mountainside Montessori
REFRESH-INTERVAL;VALUE=DURATION:PT1H
X-Robots-Tag:noindex
X-PUBLISHED-TTL:PT1H
BEGIN:VTIMEZONE
TZID:America/New_York
BEGIN:DAYLIGHT
TZOFFSETFROM:-0500
TZOFFSETTO:-0400
TZNAME:EDT
DTSTART:20240310T070000
END:DAYLIGHT
BEGIN:STANDARD
TZOFFSETFROM:-0400
TZOFFSETTO:-0500
TZNAME:EST
DTSTART:20241103T060000
END:STANDARD
END:VTIMEZONE
BEGIN:VEVENT
DTSTART;VALUE=DATE:20240805
DTEND;VALUE=DATE:20240807
DTSTAMP:20260425T160006
CREATED:20230706T210555Z
LAST-MODIFIED:20230706T210555Z
UID:13452-1722816000-1722988799@mountainsidemontessori.com
SUMMARY:Optional Guide and Staff Work Days
DESCRIPTION:
URL:https://mountainsidemontessori.com/event/optional-guide-and-staff-work-days-2/
END:VEVENT
BEGIN:VEVENT
DTSTART;VALUE=DATE:20240807
DTEND;VALUE=DATE:20240810
DTSTAMP:20260425T160006
CREATED:20230706T210854Z
LAST-MODIFIED:20230706T210854Z
UID:13455-1722988800-1723247999@mountainsidemontessori.com
SUMMARY:Guide and Staff Work Days
DESCRIPTION:
URL:https://mountainsidemontessori.com/event/guide-and-staff-work-days/
END:VEVENT
BEGIN:VEVENT
DTSTART;TZID=America/New_York:20240811T130000
DTEND;TZID=America/New_York:20240811T160000
DTSTAMP:20260425T160006
CREATED:20230706T210347Z
LAST-MODIFIED:20230706T210347Z
UID:13449-1723381200-1723392000@mountainsidemontessori.com
SUMMARY:Back to School Party
DESCRIPTION:
URL:https://mountainsidemontessori.com/event/back-to-school-party-4/
END:VEVENT
BEGIN:VEVENT
DTSTART;VALUE=DATE:20240812
DTEND;VALUE=DATE:20240817
DTSTAMP:20260425T160006
CREATED:20230706T211120Z
LAST-MODIFIED:20230706T211120Z
UID:13458-1723420800-1723852799@mountainsidemontessori.com
SUMMARY:Guide and Staff Work Week
DESCRIPTION:
URL:https://mountainsidemontessori.com/event/guide-and-staff-work-week-3/
END:VEVENT
BEGIN:VEVENT
DTSTART;TZID=America/New_York:20240815T180000
DTEND;TZID=America/New_York:20240815T200000
DTSTAMP:20260425T160006
CREATED:20230706T211320Z
LAST-MODIFIED:20230706T211320Z
UID:13460-1723744800-1723752000@mountainsidemontessori.com
SUMMARY:Parent Orientation
DESCRIPTION:
URL:https://mountainsidemontessori.com/event/parent-orientation-9/
END:VEVENT
BEGIN:VEVENT
DTSTART;TZID=America/New_York:20240817T090000
DTEND;TZID=America/New_York:20240817T120000
DTSTAMP:20260425T160006
CREATED:20230706T211521Z
LAST-MODIFIED:20230706T211521Z
UID:13464-1723885200-1723896000@mountainsidemontessori.com
SUMMARY:New Primary Student Orientation
DESCRIPTION:
URL:https://mountainsidemontessori.com/event/new-primary-student-orientation-6/
END:VEVENT
BEGIN:VEVENT
DTSTART;VALUE=DATE:20240819
DTEND;VALUE=DATE:20240820
DTSTAMP:20260425T160006
CREATED:20230706T211813Z
LAST-MODIFIED:20230706T211813Z
UID:13467-1724025600-1724111999@mountainsidemontessori.com
SUMMARY:1st Day Upper Elementary and Adolescent
DESCRIPTION:
URL:https://mountainsidemontessori.com/event/1st-day-upper-elementary-and-adolescent/
END:VEVENT
BEGIN:VEVENT
DTSTART;VALUE=DATE:20240819
DTEND;VALUE=DATE:20240820
DTSTAMP:20260425T160006
CREATED:20230706T211947Z
LAST-MODIFIED:20230706T211947Z
UID:13469-1724025600-1724111999@mountainsidemontessori.com
SUMMARY:1st Day Lower Elementary 1st Years
DESCRIPTION:
URL:https://mountainsidemontessori.com/event/1st-day-lower-elementary-1st-years/
END:VEVENT
BEGIN:VEVENT
DTSTART;VALUE=DATE:20240819
DTEND;VALUE=DATE:20240820
DTSTAMP:20260425T160006
CREATED:20230706T212222Z
LAST-MODIFIED:20230706T212222Z
UID:13473-1724025600-1724111999@mountainsidemontessori.com
SUMMARY:1st Day New Primary Students
DESCRIPTION:
URL:https://mountainsidemontessori.com/event/1st-day-new-primary-students/
END:VEVENT
BEGIN:VEVENT
DTSTART;VALUE=DATE:20240820
DTEND;VALUE=DATE:20240821
DTSTAMP:20260425T160006
CREATED:20230706T213127Z
LAST-MODIFIED:20230706T213127Z
UID:13477-1724112000-1724198399@mountainsidemontessori.com
SUMMARY:1st Day for 2nd and 3rd Year Lower Elementary Students
DESCRIPTION:
URL:https://mountainsidemontessori.com/event/1st-day-for-2nd-and-3rd-year-lower-elementary-students/
END:VEVENT
BEGIN:VEVENT
DTSTART;VALUE=DATE:20240820
DTEND;VALUE=DATE:20240821
DTSTAMP:20260425T160006
CREATED:20230706T213413Z
LAST-MODIFIED:20230706T213413Z
UID:13479-1724112000-1724198399@mountainsidemontessori.com
SUMMARY:New Primary Only
DESCRIPTION:
URL:https://mountainsidemontessori.com/event/new-primary-only/
END:VEVENT
BEGIN:VEVENT
DTSTART;VALUE=DATE:20240821
DTEND;VALUE=DATE:20240822
DTSTAMP:20260425T160006
CREATED:20230706T213655Z
LAST-MODIFIED:20230706T213655Z
UID:13483-1724198400-1724284799@mountainsidemontessori.com
SUMMARY:New and Returning Primary
DESCRIPTION:
URL:https://mountainsidemontessori.com/event/new-and-returning-primary/
END:VEVENT
BEGIN:VEVENT
DTSTART;VALUE=DATE:20240821
DTEND;VALUE=DATE:20240822
DTSTAMP:20260425T160006
CREATED:20230706T213835Z
LAST-MODIFIED:20230706T213835Z
UID:13486-1724198400-1724284799@mountainsidemontessori.com
SUMMARY:All Lower Elementary Attend
DESCRIPTION:
URL:https://mountainsidemontessori.com/event/all-lower-elementary-attend/
END:VEVENT
BEGIN:VEVENT
DTSTART;VALUE=DATE:20240821
DTEND;VALUE=DATE:20240824
DTSTAMP:20260425T160006
CREATED:20230712T210110Z
LAST-MODIFIED:20230712T210110Z
UID:13670-1724198400-1724457599@mountainsidemontessori.com
SUMMARY:Adolescent Odyssey Trip
DESCRIPTION:
URL:https://mountainsidemontessori.com/event/adolescent-odyssey-trip-6/
END:VEVENT
BEGIN:VEVENT
DTSTART;VALUE=DATE:20240826
DTEND;VALUE=DATE:20240827
DTSTAMP:20260425T160006
CREATED:20230706T214324Z
LAST-MODIFIED:20230706T214324Z
UID:13492-1724630400-1724716799@mountainsidemontessori.com
SUMMARY:Supplemental Programs Begin
DESCRIPTION:
URL:https://mountainsidemontessori.com/event/supplemental-programs-begin-3/
END:VEVENT
END:VCALENDAR