BEGIN:VCALENDAR
VERSION:2.0
PRODID:-//Mountainside Montessori - ECPv6.2.9//NONSGML v1.0//EN
CALSCALE:GREGORIAN
METHOD:PUBLISH
X-WR-CALNAME:Mountainside Montessori
X-ORIGINAL-URL:https://mountainsidemontessori.com
X-WR-CALDESC:Events for Mountainside Montessori
REFRESH-INTERVAL;VALUE=DURATION:PT1H
X-Robots-Tag:noindex
X-PUBLISHED-TTL:PT1H
BEGIN:VTIMEZONE
TZID:America/New_York
BEGIN:DAYLIGHT
TZOFFSETFROM:-0500
TZOFFSETTO:-0400
TZNAME:EDT
DTSTART:20230312T070000
END:DAYLIGHT
BEGIN:STANDARD
TZOFFSETFROM:-0400
TZOFFSETTO:-0500
TZNAME:EST
DTSTART:20231105T060000
END:STANDARD
BEGIN:DAYLIGHT
TZOFFSETFROM:-0500
TZOFFSETTO:-0400
TZNAME:EDT
DTSTART:20240310T070000
END:DAYLIGHT
BEGIN:STANDARD
TZOFFSETFROM:-0400
TZOFFSETTO:-0500
TZNAME:EST
DTSTART:20241103T060000
END:STANDARD
END:VTIMEZONE
BEGIN:VEVENT
DTSTART;VALUE=DATE:20240311
DTEND;VALUE=DATE:20240312
DTSTAMP:20260425T105119
CREATED:20230705T192804Z
LAST-MODIFIED:20230705T192804Z
UID:13369-1710115200-1710201599@mountainsidemontessori.com
SUMMARY:Parent Guide Conferences - No School for Students Except Adolescents
DESCRIPTION:
URL:https://mountainsidemontessori.com/event/parent-guide-conferences-no-school-for-students-except-adolescents-2/
END:VEVENT
BEGIN:VEVENT
DTSTART;VALUE=DATE:20240308
DTEND;VALUE=DATE:20240309
DTSTAMP:20260425T105119
CREATED:20230705T192558Z
LAST-MODIFIED:20230705T192630Z
UID:13365-1709856000-1709942399@mountainsidemontessori.com
SUMMARY:Parent Guide Conferences - No School for Students Except Adolescents
DESCRIPTION:
URL:https://mountainsidemontessori.com/event/parent-guide-conferences-no-school-for-students-except-adolescents/
END:VEVENT
BEGIN:VEVENT
DTSTART;VALUE=DATE:20240301
DTEND;VALUE=DATE:20240302
DTSTAMP:20260425T105119
CREATED:20230705T192308Z
LAST-MODIFIED:20230705T192308Z
UID:13362-1709251200-1709337599@mountainsidemontessori.com
SUMMARY:Family Gardening and Groundskeeping Day
DESCRIPTION:
URL:https://mountainsidemontessori.com/event/family-gardening-and-groundskeeping-day-10/
END:VEVENT
BEGIN:VEVENT
DTSTART;VALUE=DATE:20240223
DTEND;VALUE=DATE:20240224
DTSTAMP:20260425T105119
CREATED:20230705T191958Z
LAST-MODIFIED:20230705T191958Z
UID:13353-1708646400-1708732799@mountainsidemontessori.com
SUMMARY:Guide and Staff Work Day - No School for Students
DESCRIPTION:
URL:https://mountainsidemontessori.com/event/guide-and-staff-work-day-no-school-for-students-5/
END:VEVENT
BEGIN:VEVENT
DTSTART;VALUE=DATE:20240220
DTEND;VALUE=DATE:20240223
DTSTAMP:20260425T105119
CREATED:20230705T192203Z
LAST-MODIFIED:20230705T192203Z
UID:13359-1708387200-1708646399@mountainsidemontessori.com
SUMMARY:Adolescent Conference Week
DESCRIPTION:
URL:https://mountainsidemontessori.com/event/adolescent-conference-week-3/
END:VEVENT
BEGIN:VEVENT
DTSTART;VALUE=DATE:20240219
DTEND;VALUE=DATE:20240220
DTSTAMP:20260425T105119
CREATED:20230705T191811Z
LAST-MODIFIED:20230705T191811Z
UID:13350-1708300800-1708387199@mountainsidemontessori.com
SUMMARY:No School
DESCRIPTION:
URL:https://mountainsidemontessori.com/event/no-school-12/
END:VEVENT
BEGIN:VEVENT
DTSTART;VALUE=DATE:20240216
DTEND;VALUE=DATE:20240217
DTSTAMP:20260425T105119
CREATED:20230707T130342Z
LAST-MODIFIED:20230707T130404Z
UID:13513-1708041600-1708127999@mountainsidemontessori.com
SUMMARY:Guide and Staff Work Day - No School for Students
DESCRIPTION:
URL:https://mountainsidemontessori.com/event/guide-and-staff-work-day-no-school-for-students-6/
END:VEVENT
BEGIN:VEVENT
DTSTART;VALUE=DATE:20240215
DTEND;VALUE=DATE:20240216
DTSTAMP:20260425T105119
CREATED:20230705T191559Z
LAST-MODIFIED:20230705T191559Z
UID:13344-1707955200-1708041599@mountainsidemontessori.com
SUMMARY:Vision and Hearing Screenings
DESCRIPTION:
URL:https://mountainsidemontessori.com/event/vision-and-hearing-screenings/
END:VEVENT
BEGIN:VEVENT
DTSTART;VALUE=DATE:20240215
DTEND;VALUE=DATE:20240216
DTSTAMP:20260425T105119
CREATED:20230705T191459Z
LAST-MODIFIED:20240128T151335Z
UID:13341-1707955200-1708041599@mountainsidemontessori.com
SUMMARY:Transition Workshops
DESCRIPTION:
URL:https://mountainsidemontessori.com/event/transition-workshops-5/
END:VEVENT
BEGIN:VEVENT
DTSTART;TZID=America/New_York:20240210T100000
DTEND;TZID=America/New_York:20240210T140000
DTSTAMP:20260425T105119
CREATED:20230705T191219Z
LAST-MODIFIED:20230707T130258Z
UID:13337-1707559200-1707573600@mountainsidemontessori.com
SUMMARY:Open House
DESCRIPTION:For Prospective Families; By Appointment; Please schedule with the office (office@mountainsidemontessori.com)
URL:https://mountainsidemontessori.com/event/open-house-15/
END:VEVENT
BEGIN:VEVENT
DTSTART;TZID=America/New_York:20240207T153000
DTEND;TZID=America/New_York:20240207T173000
DTSTAMP:20260425T105119
CREATED:20230705T191722Z
LAST-MODIFIED:20240128T151241Z
UID:13347-1707319800-1707327000@mountainsidemontessori.com
SUMMARY:Parent Child Night
DESCRIPTION:
URL:https://mountainsidemontessori.com/event/parent-child-night-10/
END:VEVENT
BEGIN:VEVENT
DTSTART;VALUE=DATE:20240205
DTEND;VALUE=DATE:20240210
DTSTAMP:20260425T105119
CREATED:20230705T190818Z
LAST-MODIFIED:20230705T190818Z
UID:13334-1707091200-1707523199@mountainsidemontessori.com
SUMMARY:Adolescent Internship Week
DESCRIPTION:
URL:https://mountainsidemontessori.com/event/adolescent-internship-week-6/
END:VEVENT
BEGIN:VEVENT
DTSTART;VALUE=DATE:20240115
DTEND;VALUE=DATE:20240116
DTSTAMP:20260425T105119
CREATED:20230705T190307Z
LAST-MODIFIED:20230705T190307Z
UID:13329-1705276800-1705363199@mountainsidemontessori.com
SUMMARY:No School
DESCRIPTION:
URL:https://mountainsidemontessori.com/event/no-school-11/
END:VEVENT
BEGIN:VEVENT
DTSTART;TZID=America/New_York:20240113T100000
DTEND;TZID=America/New_York:20240113T140000
DTSTAMP:20260425T105119
CREATED:20230705T185849Z
LAST-MODIFIED:20230707T130115Z
UID:13325-1705140000-1705154400@mountainsidemontessori.com
SUMMARY:Open House
DESCRIPTION:For Prospective Families; By Appointment; Please schedule with the office (office@mountainsidemontessori.com)
URL:https://mountainsidemontessori.com/event/open-house-14/
END:VEVENT
BEGIN:VEVENT
DTSTART;VALUE=DATE:20240103
DTEND;VALUE=DATE:20240104
DTSTAMP:20260425T105119
CREATED:20230705T185710Z
LAST-MODIFIED:20230705T185710Z
UID:13322-1704240000-1704326399@mountainsidemontessori.com
SUMMARY:School Resumes
DESCRIPTION:
URL:https://mountainsidemontessori.com/event/school-resumes-9/
END:VEVENT
BEGIN:VEVENT
DTSTART;VALUE=DATE:20240102
DTEND;VALUE=DATE:20240103
DTSTAMP:20260425T105119
CREATED:20230705T185442Z
LAST-MODIFIED:20230705T185442Z
UID:13319-1704153600-1704239999@mountainsidemontessori.com
SUMMARY:School Closed
DESCRIPTION:
URL:https://mountainsidemontessori.com/event/school-closed/
END:VEVENT
BEGIN:VEVENT
DTSTART;TZID=America/New_York:20231221T170000
DTEND;TZID=America/New_York:20231221T190000
DTSTAMP:20260425T105119
CREATED:20230918T143320Z
LAST-MODIFIED:20230918T143338Z
UID:13779-1703178000-1703185200@mountainsidemontessori.com
SUMMARY:Alumni Gathering
DESCRIPTION:
URL:https://mountainsidemontessori.com/event/alumni-gathering/
END:VEVENT
BEGIN:VEVENT
DTSTART;VALUE=DATE:20231218
DTEND;VALUE=DATE:20231230
DTSTAMP:20260425T105119
CREATED:20230705T183250Z
LAST-MODIFIED:20230705T183250Z
UID:13314-1702857600-1703894399@mountainsidemontessori.com
SUMMARY:Winter Break
DESCRIPTION:
URL:https://mountainsidemontessori.com/event/winter-break-4/
END:VEVENT
BEGIN:VEVENT
DTSTART;VALUE=DATE:20231215
DTEND;VALUE=DATE:20231216
DTSTAMP:20260425T105119
CREATED:20230705T183132Z
LAST-MODIFIED:20230705T183132Z
UID:13311-1702598400-1702684799@mountainsidemontessori.com
SUMMARY:Winter Performance and Potluck (TBD)
DESCRIPTION:
URL:https://mountainsidemontessori.com/event/winter-performance-and-potluck-tbd/
END:VEVENT
BEGIN:VEVENT
DTSTART;TZID=America/New_York:20231210T130000
DTEND;TZID=America/New_York:20231210T160000
DTSTAMP:20260425T105119
CREATED:20230705T182904Z
LAST-MODIFIED:20231114T180628Z
UID:13304-1702213200-1702224000@mountainsidemontessori.com
SUMMARY:Holiday Photos with Santa
DESCRIPTION:
URL:https://mountainsidemontessori.com/event/holiday-photos-with-santa/
END:VEVENT
BEGIN:VEVENT
DTSTART;TZID=America/New_York:20231209T100000
DTEND;TZID=America/New_York:20231209T140000
DTSTAMP:20260425T105119
CREATED:20230705T183021Z
LAST-MODIFIED:20230707T125959Z
UID:13308-1702116000-1702130400@mountainsidemontessori.com
SUMMARY:Open House
DESCRIPTION:For Prospective Families; By Appointment; Please schedule with the office (office@mountainsidemontessori.com)
URL:https://mountainsidemontessori.com/event/open-house-13/
END:VEVENT
BEGIN:VEVENT
DTSTART;VALUE=DATE:20231202
DTEND;VALUE=DATE:20231203
DTSTAMP:20260425T105119
CREATED:20230705T182804Z
LAST-MODIFIED:20230705T182804Z
UID:13302-1701475200-1701561599@mountainsidemontessori.com
SUMMARY:Marshall Christmas Parade
DESCRIPTION:
URL:https://mountainsidemontessori.com/event/marshall-christmas-parade/
END:VEVENT
BEGIN:VEVENT
DTSTART;VALUE=DATE:20231201
DTEND;VALUE=DATE:20231202
DTSTAMP:20260425T105119
CREATED:20230705T182625Z
LAST-MODIFIED:20230705T182625Z
UID:13299-1701388800-1701475199@mountainsidemontessori.com
SUMMARY:Warrenton Christmas Parade
DESCRIPTION:
URL:https://mountainsidemontessori.com/event/warrenton-christmas-parade-3/
END:VEVENT
BEGIN:VEVENT
DTSTART;VALUE=DATE:20231122
DTEND;VALUE=DATE:20231125
DTSTAMP:20260425T105119
CREATED:20230705T182509Z
LAST-MODIFIED:20230705T182509Z
UID:13296-1700611200-1700870399@mountainsidemontessori.com
SUMMARY:Thanksgiving Break
DESCRIPTION:
URL:https://mountainsidemontessori.com/event/thanksgiving-break-4/
END:VEVENT
BEGIN:VEVENT
DTSTART;VALUE=DATE:20231117
DTEND;VALUE=DATE:20231118
DTSTAMP:20260425T105119
CREATED:20230705T182302Z
LAST-MODIFIED:20230705T182329Z
UID:13293-1700179200-1700265599@mountainsidemontessori.com
SUMMARY:Family Gardening and Groundskeeping Day
DESCRIPTION:
URL:https://mountainsidemontessori.com/event/family-gardening-and-groundskeeping-day-9/
END:VEVENT
BEGIN:VEVENT
DTSTART;VALUE=DATE:20231113
DTEND;VALUE=DATE:20231114
DTSTAMP:20260425T105119
CREATED:20230705T182121Z
LAST-MODIFIED:20230705T182121Z
UID:13290-1699833600-1699919999@mountainsidemontessori.com
SUMMARY:Parent Guide Conferences - No School for Students
DESCRIPTION:
URL:https://mountainsidemontessori.com/event/parent-guide-conferences-no-school-for-students-8/
END:VEVENT
BEGIN:VEVENT
DTSTART;TZID=America/New_York:20231111T100000
DTEND;TZID=America/New_York:20231111T140000
DTSTAMP:20260425T105119
CREATED:20230705T181944Z
LAST-MODIFIED:20230707T125815Z
UID:13287-1699696800-1699711200@mountainsidemontessori.com
SUMMARY:Open House
DESCRIPTION:For Prospective Families; By Appointment; Please schedule with the office (office@mountainsidemontessori.com)
URL:https://mountainsidemontessori.com/event/open-house-12/
END:VEVENT
BEGIN:VEVENT
DTSTART;VALUE=DATE:20231110
DTEND;VALUE=DATE:20231111
DTSTAMP:20260425T105119
CREATED:20230705T181632Z
LAST-MODIFIED:20230705T181632Z
UID:13284-1699574400-1699660799@mountainsidemontessori.com
SUMMARY:Parent Guide Conferences - No School for Students
DESCRIPTION:
URL:https://mountainsidemontessori.com/event/parent-guide-conferences-no-school-for-students-7/
END:VEVENT
BEGIN:VEVENT
DTSTART;VALUE=DATE:20231107
DTEND;VALUE=DATE:20231108
DTSTAMP:20260425T105119
CREATED:20230705T181224Z
LAST-MODIFIED:20230705T181455Z
UID:13277-1699315200-1699401599@mountainsidemontessori.com
SUMMARY:Parent Child Night
DESCRIPTION:
URL:https://mountainsidemontessori.com/event/parent-child-night-9/
END:VEVENT
BEGIN:VEVENT
DTSTART;VALUE=DATE:20231101
DTEND;VALUE=DATE:20231102
DTSTAMP:20260425T105119
CREATED:20230705T180826Z
LAST-MODIFIED:20230705T180826Z
UID:13274-1698796800-1698883199@mountainsidemontessori.com
SUMMARY:Guide and Staff Work Day - No School for Students
DESCRIPTION:
URL:https://mountainsidemontessori.com/event/guide-and-staff-work-day-no-school-for-students-4/
END:VEVENT
END:VCALENDAR