BEGIN:VCALENDAR
VERSION:2.0
PRODID:-//Mountainside Montessori - ECPv6.2.9//NONSGML v1.0//EN
CALSCALE:GREGORIAN
METHOD:PUBLISH
X-WR-CALNAME:Mountainside Montessori
X-ORIGINAL-URL:https://mountainsidemontessori.com
X-WR-CALDESC:Events for Mountainside Montessori
REFRESH-INTERVAL;VALUE=DURATION:PT1H
X-Robots-Tag:noindex
X-PUBLISHED-TTL:PT1H
BEGIN:VTIMEZONE
TZID:America/New_York
BEGIN:DAYLIGHT
TZOFFSETFROM:-0500
TZOFFSETTO:-0400
TZNAME:EDT
DTSTART:20240310T070000
END:DAYLIGHT
BEGIN:STANDARD
TZOFFSETFROM:-0400
TZOFFSETTO:-0500
TZNAME:EST
DTSTART:20241103T060000
END:STANDARD
END:VTIMEZONE
BEGIN:VEVENT
DTSTART;VALUE=DATE:20240819
DTEND;VALUE=DATE:20240820
DTSTAMP:20260425T125224
CREATED:20230706T212222Z
LAST-MODIFIED:20230706T212222Z
UID:13473-1724025600-1724111999@mountainsidemontessori.com
SUMMARY:1st Day New Primary Students
DESCRIPTION:
URL:https://mountainsidemontessori.com/event/1st-day-new-primary-students/
END:VEVENT
BEGIN:VEVENT
DTSTART;VALUE=DATE:20240819
DTEND;VALUE=DATE:20240820
DTSTAMP:20260425T125224
CREATED:20230706T211947Z
LAST-MODIFIED:20230706T211947Z
UID:13469-1724025600-1724111999@mountainsidemontessori.com
SUMMARY:1st Day Lower Elementary 1st Years
DESCRIPTION:
URL:https://mountainsidemontessori.com/event/1st-day-lower-elementary-1st-years/
END:VEVENT
BEGIN:VEVENT
DTSTART;VALUE=DATE:20240819
DTEND;VALUE=DATE:20240820
DTSTAMP:20260425T125224
CREATED:20230706T211813Z
LAST-MODIFIED:20230706T211813Z
UID:13467-1724025600-1724111999@mountainsidemontessori.com
SUMMARY:1st Day Upper Elementary and Adolescent
DESCRIPTION:
URL:https://mountainsidemontessori.com/event/1st-day-upper-elementary-and-adolescent/
END:VEVENT
BEGIN:VEVENT
DTSTART;TZID=America/New_York:20240817T090000
DTEND;TZID=America/New_York:20240817T120000
DTSTAMP:20260425T125224
CREATED:20230706T211521Z
LAST-MODIFIED:20230706T211521Z
UID:13464-1723885200-1723896000@mountainsidemontessori.com
SUMMARY:New Primary Student Orientation
DESCRIPTION:
URL:https://mountainsidemontessori.com/event/new-primary-student-orientation-6/
END:VEVENT
BEGIN:VEVENT
DTSTART;TZID=America/New_York:20240815T180000
DTEND;TZID=America/New_York:20240815T200000
DTSTAMP:20260425T125224
CREATED:20230706T211320Z
LAST-MODIFIED:20230706T211320Z
UID:13460-1723744800-1723752000@mountainsidemontessori.com
SUMMARY:Parent Orientation
DESCRIPTION:
URL:https://mountainsidemontessori.com/event/parent-orientation-9/
END:VEVENT
BEGIN:VEVENT
DTSTART;VALUE=DATE:20240812
DTEND;VALUE=DATE:20240817
DTSTAMP:20260425T125224
CREATED:20230706T211120Z
LAST-MODIFIED:20230706T211120Z
UID:13458-1723420800-1723852799@mountainsidemontessori.com
SUMMARY:Guide and Staff Work Week
DESCRIPTION:
URL:https://mountainsidemontessori.com/event/guide-and-staff-work-week-3/
END:VEVENT
BEGIN:VEVENT
DTSTART;TZID=America/New_York:20240811T130000
DTEND;TZID=America/New_York:20240811T160000
DTSTAMP:20260425T125224
CREATED:20230706T210347Z
LAST-MODIFIED:20230706T210347Z
UID:13449-1723381200-1723392000@mountainsidemontessori.com
SUMMARY:Back to School Party
DESCRIPTION:
URL:https://mountainsidemontessori.com/event/back-to-school-party-4/
END:VEVENT
BEGIN:VEVENT
DTSTART;VALUE=DATE:20240807
DTEND;VALUE=DATE:20240810
DTSTAMP:20260425T125224
CREATED:20230706T210854Z
LAST-MODIFIED:20230706T210854Z
UID:13455-1722988800-1723247999@mountainsidemontessori.com
SUMMARY:Guide and Staff Work Days
DESCRIPTION:
URL:https://mountainsidemontessori.com/event/guide-and-staff-work-days/
END:VEVENT
BEGIN:VEVENT
DTSTART;VALUE=DATE:20240805
DTEND;VALUE=DATE:20240807
DTSTAMP:20260425T125224
CREATED:20230706T210555Z
LAST-MODIFIED:20230706T210555Z
UID:13452-1722816000-1722988799@mountainsidemontessori.com
SUMMARY:Optional Guide and Staff Work Days
DESCRIPTION:
URL:https://mountainsidemontessori.com/event/optional-guide-and-staff-work-days-2/
END:VEVENT
BEGIN:VEVENT
DTSTART;VALUE=DATE:20240517
DTEND;VALUE=DATE:20240518
DTSTAMP:20260425T125224
CREATED:20230705T202436Z
LAST-MODIFIED:20230705T202436Z
UID:13429-1715904000-1715990399@mountainsidemontessori.com
SUMMARY:Guide and Staff Work Day
DESCRIPTION:
URL:https://mountainsidemontessori.com/event/guide-and-staff-work-day-5/
END:VEVENT
BEGIN:VEVENT
DTSTART;TZID=America/New_York:20240516T110000
DTEND;TZID=America/New_York:20240516T140000
DTSTAMP:20260425T125224
CREATED:20230705T202244Z
LAST-MODIFIED:20230705T204656Z
UID:13426-1715857200-1715868000@mountainsidemontessori.com
SUMMARY:Last Day for Students (Picnic\, Potluck\, Soccer)
DESCRIPTION:
URL:https://mountainsidemontessori.com/event/last-day-picnic-potluck-soccer/
END:VEVENT
BEGIN:VEVENT
DTSTART;VALUE=DATE:20240515
DTEND;VALUE=DATE:20240516
DTSTAMP:20260425T125224
CREATED:20230705T202034Z
LAST-MODIFIED:20230705T202034Z
UID:13422-1715731200-1715817599@mountainsidemontessori.com
SUMMARY:9th Year Graduation
DESCRIPTION:
URL:https://mountainsidemontessori.com/event/9th-year-graduation-5/
END:VEVENT
BEGIN:VEVENT
DTSTART;VALUE=DATE:20240514
DTEND;VALUE=DATE:20240515
DTSTAMP:20260425T125224
CREATED:20230705T201531Z
LAST-MODIFIED:20230705T201531Z
UID:13417-1715644800-1715731199@mountainsidemontessori.com
SUMMARY:Primary and Elementary Transitions
DESCRIPTION:
URL:https://mountainsidemontessori.com/event/primary-and-elementary-transitions-3/
END:VEVENT
BEGIN:VEVENT
DTSTART;TZID=America/New_York:20240511T100000
DTEND;TZID=America/New_York:20240511T140000
DTSTAMP:20260425T125224
CREATED:20230705T200712Z
LAST-MODIFIED:20230707T131012Z
UID:13406-1715421600-1715436000@mountainsidemontessori.com
SUMMARY:Open House
DESCRIPTION:For Prospective Families; By Appointment; Please schedule with the office (office@mountainsidemontessori.com)
URL:https://mountainsidemontessori.com/event/open-house-18/
END:VEVENT
BEGIN:VEVENT
DTSTART;VALUE=DATE:20240510
DTEND;VALUE=DATE:20240511
DTSTAMP:20260425T125224
CREATED:20230705T200517Z
LAST-MODIFIED:20230705T200517Z
UID:13403-1715299200-1715385599@mountainsidemontessori.com
SUMMARY:Family Gardening and Groundskeeping Day
DESCRIPTION:
URL:https://mountainsidemontessori.com/event/family-gardening-and-groundskeeping-day-12/
END:VEVENT
BEGIN:VEVENT
DTSTART;VALUE=DATE:20240506
DTEND;VALUE=DATE:20240511
DTSTAMP:20260425T125224
CREATED:20230705T200304Z
LAST-MODIFIED:20230705T200304Z
UID:13400-1714953600-1715385599@mountainsidemontessori.com
SUMMARY:Adolescent End of the Year Trip
DESCRIPTION:
URL:https://mountainsidemontessori.com/event/adolescent-end-of-the-year-trip/
END:VEVENT
BEGIN:VEVENT
DTSTART;VALUE=DATE:20240429
DTEND;VALUE=DATE:20240501
DTSTAMP:20260425T125224
CREATED:20230705T201357Z
LAST-MODIFIED:20230707T130823Z
UID:13414-1714348800-1714521599@mountainsidemontessori.com
SUMMARY:Group Photos Rain Dates
DESCRIPTION:
URL:https://mountainsidemontessori.com/event/group-photos-rain-date/
END:VEVENT
BEGIN:VEVENT
DTSTART;TZID=America/New_York:20240426T154500
DTEND;TZID=America/New_York:20240426T171500
DTSTAMP:20260425T125224
CREATED:20240118T150023Z
LAST-MODIFIED:20240123T150611Z
UID:13977-1714146300-1714151700@mountainsidemontessori.com
SUMMARY:Upper Elementary Drama Performance (Rain Date)
DESCRIPTION:
URL:https://mountainsidemontessori.com/event/upper-elementary-drama-performance-rain-date/
END:VEVENT
BEGIN:VEVENT
DTSTART;VALUE=DATE:20240424
DTEND;VALUE=DATE:20240425
DTSTAMP:20260425T125224
CREATED:20230705T201222Z
LAST-MODIFIED:20230705T201222Z
UID:13412-1713916800-1714003199@mountainsidemontessori.com
SUMMARY:Group Photos
DESCRIPTION:
URL:https://mountainsidemontessori.com/event/group-photos/
END:VEVENT
BEGIN:VEVENT
DTSTART;TZID=America/New_York:20240419T154500
DTEND;TZID=America/New_York:20240419T171500
DTSTAMP:20260425T125224
CREATED:20240118T145942Z
LAST-MODIFIED:20240123T150527Z
UID:13973-1713541500-1713546900@mountainsidemontessori.com
SUMMARY:Upper Elementary Drama Performance
DESCRIPTION:﻿﻿﻿﻿
URL:https://mountainsidemontessori.com/event/upper-elementary-drama-performance/
END:VEVENT
BEGIN:VEVENT
DTSTART;VALUE=DATE:20240416
DTEND;VALUE=DATE:20240420
DTSTAMP:20260425T125224
CREATED:20230705T195633Z
LAST-MODIFIED:20230705T195633Z
UID:13394-1713225600-1713571199@mountainsidemontessori.com
SUMMARY:Guide Appreciation Week
DESCRIPTION:
URL:https://mountainsidemontessori.com/event/guide-appreciation-week-4/
END:VEVENT
BEGIN:VEVENT
DTSTART;VALUE=DATE:20240415
DTEND;VALUE=DATE:20240416
DTSTAMP:20260425T125224
CREATED:20230705T195443Z
LAST-MODIFIED:20230705T195443Z
UID:13391-1713139200-1713225599@mountainsidemontessori.com
SUMMARY:Guide and Staff Work Day
DESCRIPTION:
URL:https://mountainsidemontessori.com/event/guide-and-staff-work-day-4/
END:VEVENT
BEGIN:VEVENT
DTSTART;TZID=America/New_York:20240413T100000
DTEND;TZID=America/New_York:20240413T140000
DTSTAMP:20260425T125224
CREATED:20230705T195152Z
LAST-MODIFIED:20230707T130734Z
UID:13388-1713002400-1713016800@mountainsidemontessori.com
SUMMARY:Open House
DESCRIPTION:For Prospective Families; By Appointment; Please schedule with the office (office@mountainsidemontessori.com)
URL:https://mountainsidemontessori.com/event/open-house-17/
END:VEVENT
BEGIN:VEVENT
DTSTART;VALUE=DATE:20240411
DTEND;VALUE=DATE:20240412
DTSTAMP:20260425T125224
CREATED:20230705T195031Z
LAST-MODIFIED:20230707T130703Z
UID:13384-1712793600-1712879999@mountainsidemontessori.com
SUMMARY:Community Breakfast
DESCRIPTION:
URL:https://mountainsidemontessori.com/event/community-breakfast-tbd-2/
END:VEVENT
BEGIN:VEVENT
DTSTART;VALUE=DATE:20240405
DTEND;VALUE=DATE:20240406
DTSTAMP:20260425T125224
CREATED:20230705T194856Z
LAST-MODIFIED:20230705T194856Z
UID:13381-1712275200-1712361599@mountainsidemontessori.com
SUMMARY:Family Gardening and Groundskeeping Day
DESCRIPTION:
URL:https://mountainsidemontessori.com/event/family-gardening-and-groundskeeping-day-11/
END:VEVENT
BEGIN:VEVENT
DTSTART;VALUE=DATE:20240328
DTEND;VALUE=DATE:20240329
DTSTAMP:20260425T125224
CREATED:20240205T194357Z
LAST-MODIFIED:20240205T194408Z
UID:14010-1711584000-1711670399@mountainsidemontessori.com
SUMMARY:Late Start for Adolescent Students
DESCRIPTION:
URL:https://mountainsidemontessori.com/event/late-start-for-adolescent-students/
END:VEVENT
BEGIN:VEVENT
DTSTART;VALUE=DATE:20240328
DTEND;VALUE=DATE:20240329
DTSTAMP:20260425T125224
CREATED:20230705T193159Z
LAST-MODIFIED:20230705T193159Z
UID:13378-1711584000-1711670399@mountainsidemontessori.com
SUMMARY:Parent Education Night
DESCRIPTION:
URL:https://mountainsidemontessori.com/event/parent-education-night-6/
END:VEVENT
BEGIN:VEVENT
DTSTART;VALUE=DATE:20240327
DTEND;VALUE=DATE:20240328
DTSTAMP:20260425T125224
CREATED:20230914T133402Z
LAST-MODIFIED:20240105T162142Z
UID:13771-1711497600-1711583999@mountainsidemontessori.com
SUMMARY:Seedlings Dinner at Field & Main - Seating times vary by reservation
DESCRIPTION:﻿
URL:https://mountainsidemontessori.com/event/seedlings-dinner-at-field-main-seating-times-vary-by-reservation/
END:VEVENT
BEGIN:VEVENT
DTSTART;VALUE=DATE:20240318
DTEND;VALUE=DATE:20240323
DTSTAMP:20260425T125224
CREATED:20230705T193049Z
LAST-MODIFIED:20230705T193049Z
UID:13375-1710720000-1711151999@mountainsidemontessori.com
SUMMARY:Spring Break
DESCRIPTION:
URL:https://mountainsidemontessori.com/event/spring-break-5/
END:VEVENT
BEGIN:VEVENT
DTSTART;TZID=America/New_York:20240316T100000
DTEND;TZID=America/New_York:20240316T140000
DTSTAMP:20260425T125224
CREATED:20230705T192926Z
LAST-MODIFIED:20230707T130533Z
UID:13372-1710583200-1710597600@mountainsidemontessori.com
SUMMARY:Open House
DESCRIPTION:For Prospective Families; By Appointment; Please schedule with the office (office@mountainsidemontessori.com)
URL:https://mountainsidemontessori.com/event/open-house-16/
END:VEVENT
END:VCALENDAR