BEGIN:VCALENDAR
VERSION:2.0
PRODID:-//Mountainside Montessori - ECPv6.2.9//NONSGML v1.0//EN
CALSCALE:GREGORIAN
METHOD:PUBLISH
X-WR-CALNAME:Mountainside Montessori
X-ORIGINAL-URL:https://mountainsidemontessori.com
X-WR-CALDESC:Events for Mountainside Montessori
REFRESH-INTERVAL;VALUE=DURATION:PT1H
X-Robots-Tag:noindex
X-PUBLISHED-TTL:PT1H
BEGIN:VTIMEZONE
TZID:America/New_York
BEGIN:DAYLIGHT
TZOFFSETFROM:-0500
TZOFFSETTO:-0400
TZNAME:EDT
DTSTART:20220313T070000
END:DAYLIGHT
BEGIN:STANDARD
TZOFFSETFROM:-0400
TZOFFSETTO:-0500
TZNAME:EST
DTSTART:20221106T060000
END:STANDARD
END:VTIMEZONE
BEGIN:VEVENT
DTSTART;VALUE=DATE:20220829
DTEND;VALUE=DATE:20220830
DTSTAMP:20260425T213036
CREATED:20220429T140438Z
LAST-MODIFIED:20220429T170656Z
UID:12685-1661731200-1661817599@mountainsidemontessori.com
SUMMARY:Supplemental Programs Begin
DESCRIPTION:
URL:https://mountainsidemontessori.com/event/supplemental-programs-begin/
END:VEVENT
BEGIN:VEVENT
DTSTART;VALUE=DATE:20220824
DTEND;VALUE=DATE:20220827
DTSTAMP:20260425T213036
CREATED:20220429T170554Z
LAST-MODIFIED:20220429T170559Z
UID:12876-1661299200-1661558399@mountainsidemontessori.com
SUMMARY:Adolescent Odyssey Trip
DESCRIPTION:
URL:https://mountainsidemontessori.com/event/adolescent-odyssey-trip-4/
END:VEVENT
BEGIN:VEVENT
DTSTART;VALUE=DATE:20220824
DTEND;VALUE=DATE:20220825
DTSTAMP:20260425T213036
CREATED:20220429T135551Z
LAST-MODIFIED:20220722T211421Z
UID:12670-1661299200-1661385599@mountainsidemontessori.com
SUMMARY:1st Day of School for Group 2 Primary (Children returning to Primary)
DESCRIPTION:
URL:https://mountainsidemontessori.com/event/1st-day-grade-2-primary/
END:VEVENT
BEGIN:VEVENT
DTSTART;VALUE=DATE:20220824
DTEND;VALUE=DATE:20220825
DTSTAMP:20260425T213036
CREATED:20220429T135443Z
LAST-MODIFIED:20220429T135448Z
UID:12667-1661299200-1661385599@mountainsidemontessori.com
SUMMARY:Lower Elementary All
DESCRIPTION:
URL:https://mountainsidemontessori.com/event/lower-elementary-all/
END:VEVENT
BEGIN:VEVENT
DTSTART;VALUE=DATE:20220823
DTEND;VALUE=DATE:20220824
DTSTAMP:20260425T213036
CREATED:20220429T135332Z
LAST-MODIFIED:20220722T211231Z
UID:12664-1661212800-1661299199@mountainsidemontessori.com
SUMMARY:Group 1 Primary (Children new to Primary) Only
DESCRIPTION:
URL:https://mountainsidemontessori.com/event/group-1-primary-only/
END:VEVENT
BEGIN:VEVENT
DTSTART;VALUE=DATE:20220823
DTEND;VALUE=DATE:20220824
DTSTAMP:20260425T213036
CREATED:20220429T135058Z
LAST-MODIFIED:20220429T135102Z
UID:12661-1661212800-1661299199@mountainsidemontessori.com
SUMMARY:1st Day of School for Lower Elementary 2nd/3rd Years
DESCRIPTION:
URL:https://mountainsidemontessori.com/event/1st-day-of-school-for-lower-elementary-2nd-3rd-years/
END:VEVENT
BEGIN:VEVENT
DTSTART;VALUE=DATE:20220822
DTEND;VALUE=DATE:20220823
DTSTAMP:20260425T213036
CREATED:20220429T134754Z
LAST-MODIFIED:20220722T211145Z
UID:12657-1661126400-1661212799@mountainsidemontessori.com
SUMMARY:First Day of School for Group 1 Primary (Children new to Primary)
DESCRIPTION:
URL:https://mountainsidemontessori.com/event/first-day-of-school-for-group-1-primary/
END:VEVENT
BEGIN:VEVENT
DTSTART;VALUE=DATE:20220822
DTEND;VALUE=DATE:20220823
DTSTAMP:20260425T213036
CREATED:20220429T134408Z
LAST-MODIFIED:20220429T134412Z
UID:12654-1661126400-1661212799@mountainsidemontessori.com
SUMMARY:First Day of School for Lower Elementary 1st Years
DESCRIPTION:
URL:https://mountainsidemontessori.com/event/first-day-of-school-for-lower-elementary-1st-years/
END:VEVENT
BEGIN:VEVENT
DTSTART;VALUE=DATE:20220822
DTEND;VALUE=DATE:20220823
DTSTAMP:20260425T213036
CREATED:20220429T133932Z
LAST-MODIFIED:20220429T170950Z
UID:12648-1661126400-1661212799@mountainsidemontessori.com
SUMMARY:1st Day of School for Toddler\, Upper Elementary\, and Adolescent
DESCRIPTION:
URL:https://mountainsidemontessori.com/event/1st-day-of-school-for-toddler/
END:VEVENT
BEGIN:VEVENT
DTSTART;TZID=America/New_York:20220820T090000
DTEND;TZID=America/New_York:20220820T120000
DTSTAMP:20260425T213036
CREATED:20220429T133733Z
LAST-MODIFIED:20220429T133738Z
UID:12645-1660986000-1660996800@mountainsidemontessori.com
SUMMARY:New Primary Student Orientation
DESCRIPTION:
URL:https://mountainsidemontessori.com/event/new-primary-student-orientation-5/
END:VEVENT
BEGIN:VEVENT
DTSTART;TZID=America/New_York:20220817T180000
DTEND;TZID=America/New_York:20220817T193000
DTSTAMP:20260425T213037
CREATED:20220722T211624Z
LAST-MODIFIED:20220722T211624Z
UID:12915-1660759200-1660764600@mountainsidemontessori.com
SUMMARY:Parent Orientation
DESCRIPTION:
URL:https://mountainsidemontessori.com/event/parent-orientation-7/
END:VEVENT
BEGIN:VEVENT
DTSTART;VALUE=DATE:20220815
DTEND;VALUE=DATE:20220820
DTSTAMP:20260425T213037
CREATED:20220429T132954Z
LAST-MODIFIED:20220429T132959Z
UID:12637-1660521600-1660953599@mountainsidemontessori.com
SUMMARY:Guide and Staff Work Week
DESCRIPTION:
URL:https://mountainsidemontessori.com/event/guide-and-staff-work-week-2/
END:VEVENT
BEGIN:VEVENT
DTSTART;TZID=America/New_York:20220814T130000
DTEND;TZID=America/New_York:20220814T160000
DTSTAMP:20260425T213037
CREATED:20220429T132812Z
LAST-MODIFIED:20220429T135805Z
UID:12634-1660482000-1660492800@mountainsidemontessori.com
SUMMARY:Back to School Party
DESCRIPTION:
URL:https://mountainsidemontessori.com/event/bts-party/
END:VEVENT
BEGIN:VEVENT
DTSTART;VALUE=DATE:20220808
DTEND;VALUE=DATE:20220813
DTSTAMP:20260425T213037
CREATED:20220429T132411Z
LAST-MODIFIED:20220429T132611Z
UID:12630-1659916800-1660348799@mountainsidemontessori.com
SUMMARY:Optional Guide and Staff Work Week
DESCRIPTION:
URL:https://mountainsidemontessori.com/event/optional-guide-and-staff-work-week-2/
END:VEVENT
BEGIN:VEVENT
DTSTART;VALUE=DATE:20220808
DTEND;VALUE=DATE:20220812
DTSTAMP:20260425T213037
CREATED:20220429T132049Z
LAST-MODIFIED:20220429T132054Z
UID:12627-1659916800-1660262399@mountainsidemontessori.com
SUMMARY:Toddler Home Visits
DESCRIPTION:
URL:https://mountainsidemontessori.com/event/toddler-home-visits-5/
END:VEVENT
BEGIN:VEVENT
DTSTART;VALUE=DATE:20220520
DTEND;VALUE=DATE:20220521
DTSTAMP:20260425T213037
CREATED:20210331T152410Z
LAST-MODIFIED:20210331T152415Z
UID:12464-1653004800-1653091199@mountainsidemontessori.com
SUMMARY:Guide & Staff Work Day
DESCRIPTION:
URL:https://mountainsidemontessori.com/event/guide-staff-work-day-3/
END:VEVENT
BEGIN:VEVENT
DTSTART;VALUE=DATE:20220519
DTEND;VALUE=DATE:20220520
DTSTAMP:20260425T213037
CREATED:20210331T152333Z
LAST-MODIFIED:20210331T152341Z
UID:12461-1652918400-1653004799@mountainsidemontessori.com
SUMMARY:Last Day of School
DESCRIPTION:
URL:https://mountainsidemontessori.com/event/last-day-of-school-2/
END:VEVENT
BEGIN:VEVENT
DTSTART;VALUE=DATE:20220518
DTEND;VALUE=DATE:20220519
DTSTAMP:20260425T213037
CREATED:20210331T152300Z
LAST-MODIFIED:20210331T152306Z
UID:12458-1652832000-1652918399@mountainsidemontessori.com
SUMMARY:9th Year Graduation
DESCRIPTION:
URL:https://mountainsidemontessori.com/event/9th-year-graduation-3/
END:VEVENT
BEGIN:VEVENT
DTSTART;VALUE=DATE:20220517
DTEND;VALUE=DATE:20220518
DTSTAMP:20260425T213037
CREATED:20210331T152225Z
LAST-MODIFIED:20210331T152231Z
UID:12455-1652745600-1652831999@mountainsidemontessori.com
SUMMARY:Primary & Elementary Transitions
DESCRIPTION:
URL:https://mountainsidemontessori.com/event/primary-elementary-transitions/
END:VEVENT
BEGIN:VEVENT
DTSTART;VALUE=DATE:20220509
DTEND;VALUE=DATE:20220514
DTSTAMP:20260425T213037
CREATED:20210331T152123Z
LAST-MODIFIED:20210331T152128Z
UID:12452-1652054400-1652486399@mountainsidemontessori.com
SUMMARY:Adolescent End of Year Trip
DESCRIPTION:
URL:https://mountainsidemontessori.com/event/adolescent-end-of-year-trip-4/
END:VEVENT
BEGIN:VEVENT
DTSTART;VALUE=DATE:20220429
DTEND;VALUE=DATE:20220502
DTSTAMP:20260425T213037
CREATED:20210331T151913Z
LAST-MODIFIED:20210903T133031Z
UID:12445-1651190400-1651449599@mountainsidemontessori.com
SUMMARY:Spring Performances (TBD)
DESCRIPTION:
URL:https://mountainsidemontessori.com/event/spring-performances-tbd/
END:VEVENT
BEGIN:VEVENT
DTSTART;VALUE=DATE:20220321
DTEND;VALUE=DATE:20220326
DTSTAMP:20260425T213037
CREATED:20210331T151803Z
LAST-MODIFIED:20210331T151809Z
UID:12442-1647820800-1648252799@mountainsidemontessori.com
SUMMARY:Spring Break - No school
DESCRIPTION:
URL:https://mountainsidemontessori.com/event/spring-break-no-school-2/
END:VEVENT
BEGIN:VEVENT
DTSTART;VALUE=DATE:20220319
DTEND;VALUE=DATE:20220320
DTSTAMP:20260425T213037
CREATED:20210331T151726Z
LAST-MODIFIED:20210331T151735Z
UID:12439-1647648000-1647734399@mountainsidemontessori.com
SUMMARY:Open House (TBD)
DESCRIPTION:By appointment.
URL:https://mountainsidemontessori.com/event/open-house-tbd-4/
END:VEVENT
BEGIN:VEVENT
DTSTART;VALUE=DATE:20220314
DTEND;VALUE=DATE:20220315
DTSTAMP:20260425T213037
CREATED:20210331T151030Z
LAST-MODIFIED:20210331T152020Z
UID:12435-1647216000-1647302399@mountainsidemontessori.com
SUMMARY:Parent-Guide Conferences - No school for all students except Adolescents
DESCRIPTION:
URL:https://mountainsidemontessori.com/event/parent-guide-conferences-no-school-for-everyone-except-adolescents-2/
END:VEVENT
BEGIN:VEVENT
DTSTART;VALUE=DATE:20220311
DTEND;VALUE=DATE:20220312
DTSTAMP:20260425T213037
CREATED:20210331T150957Z
LAST-MODIFIED:20210331T152042Z
UID:12432-1646956800-1647043199@mountainsidemontessori.com
SUMMARY:Parent-Guide Conferences - No school for all students except Adolescents
DESCRIPTION:
URL:https://mountainsidemontessori.com/event/parent-guide-conferences-no-school-for-everyone-except-adolescents/
END:VEVENT
BEGIN:VEVENT
DTSTART;VALUE=DATE:20220302
DTEND;VALUE=DATE:20220303
DTSTAMP:20260425T213037
CREATED:20220114T160210Z
LAST-MODIFIED:20220114T160214Z
UID:12600-1646179200-1646265599@mountainsidemontessori.com
SUMMARY:Seedlings
DESCRIPTION:
URL:https://mountainsidemontessori.com/event/seedlings/
END:VEVENT
BEGIN:VEVENT
DTSTART;VALUE=DATE:20220225
DTEND;VALUE=DATE:20220226
DTSTAMP:20260425T213037
CREATED:20210331T150743Z
LAST-MODIFIED:20210331T150749Z
UID:12429-1645747200-1645833599@mountainsidemontessori.com
SUMMARY:Guide & Staff Work Day - No school for students
DESCRIPTION:
URL:https://mountainsidemontessori.com/event/guide-staff-work-day-no-school-for-students-3/
END:VEVENT
BEGIN:VEVENT
DTSTART;VALUE=DATE:20220222
DTEND;VALUE=DATE:20220225
DTSTAMP:20260425T213037
CREATED:20210331T150647Z
LAST-MODIFIED:20210331T163242Z
UID:12426-1645488000-1645747199@mountainsidemontessori.com
SUMMARY:Adolescent Conference Week (TBD)
DESCRIPTION:
URL:https://mountainsidemontessori.com/event/adolescent-conference-week-tbd/
END:VEVENT
BEGIN:VEVENT
DTSTART;VALUE=DATE:20220221
DTEND;VALUE=DATE:20220222
DTSTAMP:20260425T213037
CREATED:20210331T150558Z
LAST-MODIFIED:20210401T163235Z
UID:12423-1645401600-1645487999@mountainsidemontessori.com
SUMMARY:Holiday - No school
DESCRIPTION:
URL:https://mountainsidemontessori.com/event/no-school-3/
END:VEVENT
BEGIN:VEVENT
DTSTART;VALUE=DATE:20220219
DTEND;VALUE=DATE:20220220
DTSTAMP:20260425T213037
CREATED:20210331T150517Z
LAST-MODIFIED:20210331T150522Z
UID:12420-1645228800-1645315199@mountainsidemontessori.com
SUMMARY:Open House (TBD)
DESCRIPTION:By appointment.
URL:https://mountainsidemontessori.com/event/open-house-tbd-3/
END:VEVENT
END:VCALENDAR