BEGIN:VCALENDAR
VERSION:2.0
PRODID:-//Mountainside Montessori - ECPv6.2.9//NONSGML v1.0//EN
CALSCALE:GREGORIAN
METHOD:PUBLISH
X-ORIGINAL-URL:https://mountainsidemontessori.com
X-WR-CALDESC:Events for Mountainside Montessori
REFRESH-INTERVAL;VALUE=DURATION:PT1H
X-Robots-Tag:noindex
X-PUBLISHED-TTL:PT1H
BEGIN:VTIMEZONE
TZID:America/New_York
BEGIN:DAYLIGHT
TZOFFSETFROM:-0500
TZOFFSETTO:-0400
TZNAME:EDT
DTSTART:20240310T070000
END:DAYLIGHT
BEGIN:STANDARD
TZOFFSETFROM:-0400
TZOFFSETTO:-0500
TZNAME:EST
DTSTART:20241103T060000
END:STANDARD
BEGIN:DAYLIGHT
TZOFFSETFROM:-0500
TZOFFSETTO:-0400
TZNAME:EDT
DTSTART:20250309T070000
END:DAYLIGHT
BEGIN:STANDARD
TZOFFSETFROM:-0400
TZOFFSETTO:-0500
TZNAME:EST
DTSTART:20251102T060000
END:STANDARD
END:VTIMEZONE
BEGIN:VEVENT
DTSTART;VALUE=DATE:20241105
DTEND;VALUE=DATE:20241106
DTSTAMP:20260425T174733
CREATED:20230712T204054Z
LAST-MODIFIED:20230712T204054Z
UID:13639-1730764800-1730851199@mountainsidemontessori.com
SUMMARY:Parent Child Night
DESCRIPTION:
URL:https://mountainsidemontessori.com/event/parent-child-night-11/
END:VEVENT
BEGIN:VEVENT
DTSTART;VALUE=DATE:20241108
DTEND;VALUE=DATE:20241109
DTSTAMP:20260425T174733
CREATED:20230712T204334Z
LAST-MODIFIED:20230712T204334Z
UID:13642-1731024000-1731110399@mountainsidemontessori.com
SUMMARY:Parent Guide Conferences
DESCRIPTION:
URL:https://mountainsidemontessori.com/event/parent-guide-conferences-8/
END:VEVENT
BEGIN:VEVENT
DTSTART;TZID=America/New_York:20241109T100000
DTEND;TZID=America/New_York:20241109T140000
DTSTAMP:20260425T174733
CREATED:20230712T204428Z
LAST-MODIFIED:20230712T204428Z
UID:13645-1731146400-1731160800@mountainsidemontessori.com
SUMMARY:Open House
DESCRIPTION:
URL:https://mountainsidemontessori.com/event/open-house-21/
END:VEVENT
BEGIN:VEVENT
DTSTART;VALUE=DATE:20241111
DTEND;VALUE=DATE:20241112
DTSTAMP:20260425T174733
CREATED:20230712T204552Z
LAST-MODIFIED:20230712T204552Z
UID:13648-1731283200-1731369599@mountainsidemontessori.com
SUMMARY:Parent Guide Conferences - No School for Students
DESCRIPTION:
URL:https://mountainsidemontessori.com/event/parent-guide-conferences-no-school-for-students-9/
END:VEVENT
BEGIN:VEVENT
DTSTART;VALUE=DATE:20241115
DTEND;VALUE=DATE:20241116
DTSTAMP:20260425T174733
CREATED:20230712T204718Z
LAST-MODIFIED:20230712T204718Z
UID:13651-1731628800-1731715199@mountainsidemontessori.com
SUMMARY:Family Gardening and Groundskeeping Day
DESCRIPTION:
URL:https://mountainsidemontessori.com/event/family-gardening-and-groundskeeping-day-15/
END:VEVENT
BEGIN:VEVENT
DTSTART;VALUE=DATE:20241127
DTEND;VALUE=DATE:20241130
DTSTAMP:20260425T174733
CREATED:20230712T204952Z
LAST-MODIFIED:20230712T205304Z
UID:13654-1732665600-1732924799@mountainsidemontessori.com
SUMMARY:Thanksgiving Break
DESCRIPTION:
URL:https://mountainsidemontessori.com/event/thanksgiving-break-5/
END:VEVENT
BEGIN:VEVENT
DTSTART;VALUE=DATE:20241206
DTEND;VALUE=DATE:20241207
DTSTAMP:20260425T174733
CREATED:20230712T205738Z
LAST-MODIFIED:20230712T205738Z
UID:13664-1733443200-1733529599@mountainsidemontessori.com
SUMMARY:Warrenton Christmas Parade
DESCRIPTION:
URL:https://mountainsidemontessori.com/event/warrenton-christmas-parade-4/
END:VEVENT
BEGIN:VEVENT
DTSTART;VALUE=DATE:20241207
DTEND;VALUE=DATE:20241208
DTSTAMP:20260425T174733
CREATED:20230712T205847Z
LAST-MODIFIED:20230712T205847Z
UID:13667-1733529600-1733615999@mountainsidemontessori.com
SUMMARY:Marshall Christmas Parade
DESCRIPTION:
URL:https://mountainsidemontessori.com/event/marshall-christmas-parade-2/
END:VEVENT
BEGIN:VEVENT
DTSTART;VALUE=DATE:20241208
DTEND;VALUE=DATE:20241209
DTSTAMP:20260425T174733
CREATED:20230712T210237Z
LAST-MODIFIED:20230712T210237Z
UID:13673-1733616000-1733702399@mountainsidemontessori.com
SUMMARY:Holiday Photos with Santa
DESCRIPTION:
URL:https://mountainsidemontessori.com/event/holiday-photos-with-santa-2/
END:VEVENT
BEGIN:VEVENT
DTSTART;VALUE=DATE:20241209
DTEND;VALUE=DATE:20241214
DTSTAMP:20260425T174733
CREATED:20230712T210338Z
LAST-MODIFIED:20230712T210626Z
UID:13676-1733702400-1734134399@mountainsidemontessori.com
SUMMARY:Primary Transition Visits
DESCRIPTION:
URL:https://mountainsidemontessori.com/event/primary-transition-visits/
END:VEVENT
BEGIN:VEVENT
DTSTART;VALUE=DATE:20241216
DTEND;VALUE=DATE:20241218
DTSTAMP:20260425T174733
CREATED:20230712T210714Z
LAST-MODIFIED:20230712T210714Z
UID:13683-1734307200-1734479999@mountainsidemontessori.com
SUMMARY:Primary Transition Visits
DESCRIPTION:
URL:https://mountainsidemontessori.com/event/primary-transition-visits-2/
END:VEVENT
BEGIN:VEVENT
DTSTART;VALUE=DATE:20241220
DTEND;VALUE=DATE:20241221
DTSTAMP:20260425T174733
CREATED:20230712T210804Z
LAST-MODIFIED:20230712T210804Z
UID:13686-1734652800-1734739199@mountainsidemontessori.com
SUMMARY:Winter Performance and Potluck
DESCRIPTION:
URL:https://mountainsidemontessori.com/event/winter-performance-and-potluck/
END:VEVENT
BEGIN:VEVENT
DTSTART;VALUE=DATE:20241223
DTEND;VALUE=DATE:20250104
DTSTAMP:20260425T174733
CREATED:20230712T210903Z
LAST-MODIFIED:20230712T210903Z
UID:13689-1734912000-1735948799@mountainsidemontessori.com
SUMMARY:Winter Break
DESCRIPTION:
URL:https://mountainsidemontessori.com/event/winter-break-5/
END:VEVENT
END:VCALENDAR