BEGIN:VCALENDAR
VERSION:2.0
PRODID:-//Mountainside Montessori - ECPv6.2.9//NONSGML v1.0//EN
CALSCALE:GREGORIAN
METHOD:PUBLISH
X-WR-CALNAME:Mountainside Montessori
X-ORIGINAL-URL:https://mountainsidemontessori.com
X-WR-CALDESC:Events for Mountainside Montessori
REFRESH-INTERVAL;VALUE=DURATION:PT1H
X-Robots-Tag:noindex
X-PUBLISHED-TTL:PT1H
BEGIN:VTIMEZONE
TZID:America/New_York
BEGIN:DAYLIGHT
TZOFFSETFROM:-0500
TZOFFSETTO:-0400
TZNAME:EDT
DTSTART:20230312T070000
END:DAYLIGHT
BEGIN:STANDARD
TZOFFSETFROM:-0400
TZOFFSETTO:-0500
TZNAME:EST
DTSTART:20231105T060000
END:STANDARD
END:VTIMEZONE
BEGIN:VEVENT
DTSTART;VALUE=DATE:20230923
DTEND;VALUE=DATE:20230924
DTSTAMP:20260425T110816
CREATED:20230705T173014Z
LAST-MODIFIED:20230705T173014Z
UID:13239-1695427200-1695513599@mountainsidemontessori.com
SUMMARY:Silent Journey
DESCRIPTION:
URL:https://mountainsidemontessori.com/event/silent-journey-5/
END:VEVENT
BEGIN:VEVENT
DTSTART;VALUE=DATE:20230922
DTEND;VALUE=DATE:20230923
DTSTAMP:20260425T110816
CREATED:20230705T173344Z
LAST-MODIFIED:20230705T173344Z
UID:13242-1695340800-1695427199@mountainsidemontessori.com
SUMMARY:Early Dismissal
DESCRIPTION:
URL:https://mountainsidemontessori.com/event/early-dismissal/
END:VEVENT
BEGIN:VEVENT
DTSTART;VALUE=DATE:20230922
DTEND;VALUE=DATE:20230923
DTSTAMP:20260425T110816
CREATED:20230705T172556Z
LAST-MODIFIED:20230707T125330Z
UID:13235-1695340800-1695427199@mountainsidemontessori.com
SUMMARY:Grandparents' and Special Friends' Day
DESCRIPTION:
URL:https://mountainsidemontessori.com/event/grandparents-and-special-friends-day/
END:VEVENT
BEGIN:VEVENT
DTSTART;VALUE=DATE:20230922
DTEND;VALUE=DATE:20230923
DTSTAMP:20260425T110816
CREATED:20230705T172334Z
LAST-MODIFIED:20230705T172403Z
UID:13232-1695340800-1695427199@mountainsidemontessori.com
SUMMARY:Silent Journey
DESCRIPTION:
URL:https://mountainsidemontessori.com/event/silent-journey-4/
END:VEVENT
BEGIN:VEVENT
DTSTART;VALUE=DATE:20230920
DTEND;VALUE=DATE:20230921
DTSTAMP:20260425T110816
CREATED:20230705T172032Z
LAST-MODIFIED:20230705T172219Z
UID:13228-1695168000-1695254399@mountainsidemontessori.com
SUMMARY:Individual Pictures
DESCRIPTION:
URL:https://mountainsidemontessori.com/event/individual-pictures/
END:VEVENT
BEGIN:VEVENT
DTSTART;TZID=America/New_York:20230916T100000
DTEND;TZID=America/New_York:20230916T140000
DTSTAMP:20260425T110816
CREATED:20230705T171116Z
LAST-MODIFIED:20230707T125105Z
UID:13225-1694858400-1694872800@mountainsidemontessori.com
SUMMARY:Open House
DESCRIPTION:For Prospective Families; By Appointment; Please schedule with the office (office@mountainsidemontessori.com)
URL:https://mountainsidemontessori.com/event/open-house-10/
END:VEVENT
BEGIN:VEVENT
DTSTART;VALUE=DATE:20230911
DTEND;VALUE=DATE:20230912
DTSTAMP:20260425T110816
CREATED:20230705T170507Z
LAST-MODIFIED:20230705T170719Z
UID:13220-1694390400-1694476799@mountainsidemontessori.com
SUMMARY:Hot Lunch Begins
DESCRIPTION:
URL:https://mountainsidemontessori.com/event/hot-lunch-begins-2/
END:VEVENT
BEGIN:VEVENT
DTSTART;VALUE=DATE:20230908
DTEND;VALUE=DATE:20230909
DTSTAMP:20260425T110816
CREATED:20230703T160443Z
LAST-MODIFIED:20230703T161222Z
UID:13214-1694131200-1694217599@mountainsidemontessori.com
SUMMARY:Family Gardening and Groundskeeping Day
DESCRIPTION:
URL:https://mountainsidemontessori.com/event/family-gardening-and-groundskeeping-day-7/
END:VEVENT
BEGIN:VEVENT
DTSTART;VALUE=DATE:20230904
DTEND;VALUE=DATE:20230905
DTSTAMP:20260425T110816
CREATED:20230703T155748Z
LAST-MODIFIED:20230703T160050Z
UID:13210-1693785600-1693871999@mountainsidemontessori.com
SUMMARY:No School
DESCRIPTION:
URL:https://mountainsidemontessori.com/event/no-school-9/
END:VEVENT
BEGIN:VEVENT
DTSTART;VALUE=DATE:20230828
DTEND;VALUE=DATE:20230829
DTSTAMP:20260425T110816
CREATED:20230703T155304Z
LAST-MODIFIED:20230703T155504Z
UID:13207-1693180800-1693267199@mountainsidemontessori.com
SUMMARY:Supplemental Programs Begin
DESCRIPTION:
URL:https://mountainsidemontessori.com/event/supplemental-programs-begin-2/
END:VEVENT
BEGIN:VEVENT
DTSTART;VALUE=DATE:20230823
DTEND;VALUE=DATE:20230826
DTSTAMP:20260425T110816
CREATED:20230703T152908Z
LAST-MODIFIED:20230703T152954Z
UID:13204-1692748800-1693007999@mountainsidemontessori.com
SUMMARY:Adolescent Odyssey Trip
DESCRIPTION:
URL:https://mountainsidemontessori.com/event/adolescent-odyssey-trip-5/
END:VEVENT
BEGIN:VEVENT
DTSTART;VALUE=DATE:20230823
DTEND;VALUE=DATE:20230824
DTSTAMP:20260425T110816
CREATED:20230509T135525Z
LAST-MODIFIED:20230509T135535Z
UID:13170-1692748800-1692835199@mountainsidemontessori.com
SUMMARY:Children New to Primary and Returning Primary Children Attend School
DESCRIPTION:
URL:https://mountainsidemontessori.com/event/children-new-to-primary-and-returning-primary-children-attend-school/
END:VEVENT
BEGIN:VEVENT
DTSTART;VALUE=DATE:20230823
DTEND;VALUE=DATE:20230824
DTSTAMP:20260425T110816
CREATED:20230509T135118Z
LAST-MODIFIED:20230509T135130Z
UID:13160-1692748800-1692835199@mountainsidemontessori.com
SUMMARY:All Lower Elementary Attend School
DESCRIPTION:
URL:https://mountainsidemontessori.com/event/all-lower-elementary-attend-school/
END:VEVENT
BEGIN:VEVENT
DTSTART;VALUE=DATE:20230822
DTEND;VALUE=DATE:20230823
DTSTAMP:20260425T110816
CREATED:20230509T135435Z
LAST-MODIFIED:20230509T135445Z
UID:13167-1692662400-1692748799@mountainsidemontessori.com
SUMMARY:Children New to Primary Attend School (Only)
DESCRIPTION:
URL:https://mountainsidemontessori.com/event/children-new-to-primary-attend-school-only/
END:VEVENT
BEGIN:VEVENT
DTSTART;VALUE=DATE:20230822
DTEND;VALUE=DATE:20230823
DTSTAMP:20260425T110816
CREATED:20230509T135028Z
LAST-MODIFIED:20230509T135041Z
UID:13157-1692662400-1692748799@mountainsidemontessori.com
SUMMARY:First Day of School for Lower Elementary 2nd/3rd Year Students (Only)
DESCRIPTION:
URL:https://mountainsidemontessori.com/event/first-day-of-school-for-lower-elementary-2nd-3rd-year-students-only/
END:VEVENT
BEGIN:VEVENT
DTSTART;VALUE=DATE:20230821
DTEND;VALUE=DATE:20230822
DTSTAMP:20260425T110816
CREATED:20230509T135329Z
LAST-MODIFIED:20230509T135631Z
UID:13164-1692576000-1692662399@mountainsidemontessori.com
SUMMARY:First Day of School for Children New to Primary (Only)
DESCRIPTION:
URL:https://mountainsidemontessori.com/event/first-day-of-school-for-children-new-to-primary/
END:VEVENT
BEGIN:VEVENT
DTSTART;VALUE=DATE:20230821
DTEND;VALUE=DATE:20230822
DTSTAMP:20260425T110816
CREATED:20230509T134933Z
LAST-MODIFIED:20230509T135226Z
UID:13154-1692576000-1692662399@mountainsidemontessori.com
SUMMARY:First Day of School for Lower Elementary 1st Year Students (Only)
DESCRIPTION:
URL:https://mountainsidemontessori.com/event/first-day-of-school-for-lower-elementary-1st-year-students-only/
END:VEVENT
BEGIN:VEVENT
DTSTART;VALUE=DATE:20230821
DTEND;VALUE=DATE:20230822
DTSTAMP:20260425T110816
CREATED:20230509T134800Z
LAST-MODIFIED:20230509T134814Z
UID:13151-1692576000-1692662399@mountainsidemontessori.com
SUMMARY:First Day of School for Upper Elementary and Adolescent Students
DESCRIPTION:
URL:https://mountainsidemontessori.com/event/first-day-of-school-for-upper-elementary-and-adolescent-students/
END:VEVENT
BEGIN:VEVENT
DTSTART;TZID=America/New_York:20230819T090000
DTEND;TZID=America/New_York:20230819T120000
DTSTAMP:20260425T110816
CREATED:20230509T135913Z
LAST-MODIFIED:20230509T135913Z
UID:13178-1692435600-1692446400@mountainsidemontessori.com
SUMMARY:New Primary Children Orientation
DESCRIPTION:Signup link will be sent under separate cover to affected families.
URL:https://mountainsidemontessori.com/event/new-primary-children-orientation/
END:VEVENT
BEGIN:VEVENT
DTSTART;TZID=America/New_York:20230818T090000
DTEND;TZID=America/New_York:20230818T120000
DTSTAMP:20260425T110816
CREATED:20230711T163440Z
LAST-MODIFIED:20230711T163451Z
UID:13577-1692349200-1692360000@mountainsidemontessori.com
SUMMARY:New Primary Children Orientation - Blue House Only
DESCRIPTION:
URL:https://mountainsidemontessori.com/event/new-primary-children-orientation-blue-house-only/
END:VEVENT
BEGIN:VEVENT
DTSTART;TZID=America/New_York:20230817T180000
DTEND;TZID=America/New_York:20230817T200000
DTSTAMP:20260425T110816
CREATED:20230509T140013Z
LAST-MODIFIED:20230509T140023Z
UID:13181-1692295200-1692302400@mountainsidemontessori.com
SUMMARY:Parent Orientation
DESCRIPTION:
URL:https://mountainsidemontessori.com/event/parent-orientation-8/
END:VEVENT
BEGIN:VEVENT
DTSTART;TZID=America/New_York:20230813T130000
DTEND;TZID=America/New_York:20230813T160000
DTSTAMP:20260425T110816
CREATED:20230509T135802Z
LAST-MODIFIED:20230509T135812Z
UID:13175-1691931600-1691942400@mountainsidemontessori.com
SUMMARY:Back-to-School Party
DESCRIPTION:
URL:https://mountainsidemontessori.com/event/back-to-school-party-3/
END:VEVENT
BEGIN:VEVENT
DTSTART;VALUE=DATE:20230809
DTEND;VALUE=DATE:20230819
DTSTAMP:20260425T110816
CREATED:20230509T140112Z
LAST-MODIFIED:20230509T140121Z
UID:13184-1691539200-1692403199@mountainsidemontessori.com
SUMMARY:Guide & Staff Work Week
DESCRIPTION:
URL:https://mountainsidemontessori.com/event/guide-staff-work-week-4/
END:VEVENT
BEGIN:VEVENT
DTSTART;VALUE=DATE:20230807
DTEND;VALUE=DATE:20230809
DTSTAMP:20260425T110816
CREATED:20230703T152441Z
LAST-MODIFIED:20230703T152604Z
UID:13201-1691366400-1691539199@mountainsidemontessori.com
SUMMARY:Optional Guide and Staff Work Days
DESCRIPTION:
URL:https://mountainsidemontessori.com/event/optional-guide-and-staff-work-days/
END:VEVENT
BEGIN:VEVENT
DTSTART;VALUE=DATE:20230714
DTEND;VALUE=DATE:20230715
DTSTAMP:20260425T110816
CREATED:20230509T140245Z
LAST-MODIFIED:20230509T140256Z
UID:13187-1689292800-1689379199@mountainsidemontessori.com
SUMMARY:All Enrollment/Re-Enrollment Paperwork Due
DESCRIPTION:New this year\, all paperwork will be due on July 15th. Only those will all documentation accounted for will be able to begin school in August. Thank you!
URL:https://mountainsidemontessori.com/event/all-enrollment-re-enrollment-paperwork-due/
END:VEVENT
BEGIN:VEVENT
DTSTART;VALUE=DATE:20230519
DTEND;VALUE=DATE:20230520
DTSTAMP:20260425T110816
CREATED:20220429T153011Z
LAST-MODIFIED:20220429T153015Z
UID:12870-1684454400-1684540799@mountainsidemontessori.com
SUMMARY:Guide and Staff Work Day
DESCRIPTION:
URL:https://mountainsidemontessori.com/event/guide-and-staff-work-day-3/
END:VEVENT
BEGIN:VEVENT
DTSTART;VALUE=DATE:20230518
DTEND;VALUE=DATE:20230519
DTSTAMP:20260425T110816
CREATED:20220429T153147Z
LAST-MODIFIED:20220429T153151Z
UID:12873-1684368000-1684454399@mountainsidemontessori.com
SUMMARY:Last Day of School Activities
DESCRIPTION:
URL:https://mountainsidemontessori.com/event/last-day-of-school-activities/
END:VEVENT
BEGIN:VEVENT
DTSTART;VALUE=DATE:20230517
DTEND;VALUE=DATE:20230518
DTSTAMP:20260425T110816
CREATED:20220429T152853Z
LAST-MODIFIED:20220429T152857Z
UID:12867-1684281600-1684367999@mountainsidemontessori.com
SUMMARY:9th Year Graduation
DESCRIPTION:
URL:https://mountainsidemontessori.com/event/9th-year-graduation-4/
END:VEVENT
BEGIN:VEVENT
DTSTART;VALUE=DATE:20230516
DTEND;VALUE=DATE:20230517
DTSTAMP:20260425T110816
CREATED:20220429T152741Z
LAST-MODIFIED:20220429T152746Z
UID:12864-1684195200-1684281599@mountainsidemontessori.com
SUMMARY:Primary and Elementary Transitions
DESCRIPTION:
URL:https://mountainsidemontessori.com/event/primary-and-elementary-transitions-2/
END:VEVENT
BEGIN:VEVENT
DTSTART;VALUE=DATE:20230512
DTEND;VALUE=DATE:20230513
DTSTAMP:20260425T110816
CREATED:20220429T152636Z
LAST-MODIFIED:20220429T152639Z
UID:12861-1683849600-1683935999@mountainsidemontessori.com
SUMMARY:Family Gardening and Groundskeeping Day
DESCRIPTION:
URL:https://mountainsidemontessori.com/event/family-gardening-and-groundskeeping-day-6/
END:VEVENT
END:VCALENDAR