BEGIN:VCALENDAR
VERSION:2.0
PRODID:-//Mountainside Montessori - ECPv6.2.9//NONSGML v1.0//EN
CALSCALE:GREGORIAN
METHOD:PUBLISH
X-WR-CALNAME:Mountainside Montessori
X-ORIGINAL-URL:https://mountainsidemontessori.com
X-WR-CALDESC:Events for Mountainside Montessori
REFRESH-INTERVAL;VALUE=DURATION:PT1H
X-Robots-Tag:noindex
X-PUBLISHED-TTL:PT1H
BEGIN:VTIMEZONE
TZID:America/New_York
BEGIN:DAYLIGHT
TZOFFSETFROM:-0500
TZOFFSETTO:-0400
TZNAME:EDT
DTSTART:20240310T070000
END:DAYLIGHT
BEGIN:STANDARD
TZOFFSETFROM:-0400
TZOFFSETTO:-0500
TZNAME:EST
DTSTART:20241103T060000
END:STANDARD
BEGIN:DAYLIGHT
TZOFFSETFROM:-0500
TZOFFSETTO:-0400
TZNAME:EDT
DTSTART:20250309T070000
END:DAYLIGHT
BEGIN:STANDARD
TZOFFSETFROM:-0400
TZOFFSETTO:-0500
TZNAME:EST
DTSTART:20251102T060000
END:STANDARD
END:VTIMEZONE
BEGIN:VEVENT
DTSTART;VALUE=DATE:20241223
DTEND;VALUE=DATE:20250104
DTSTAMP:20260425T063427
CREATED:20230712T210903Z
LAST-MODIFIED:20230712T210903Z
UID:13689-1734912000-1735948799@mountainsidemontessori.com
SUMMARY:Winter Break
DESCRIPTION:
URL:https://mountainsidemontessori.com/event/winter-break-5/
END:VEVENT
BEGIN:VEVENT
DTSTART;VALUE=DATE:20241220
DTEND;VALUE=DATE:20241221
DTSTAMP:20260425T063427
CREATED:20230712T210804Z
LAST-MODIFIED:20230712T210804Z
UID:13686-1734652800-1734739199@mountainsidemontessori.com
SUMMARY:Winter Performance and Potluck
DESCRIPTION:
URL:https://mountainsidemontessori.com/event/winter-performance-and-potluck/
END:VEVENT
BEGIN:VEVENT
DTSTART;VALUE=DATE:20241216
DTEND;VALUE=DATE:20241218
DTSTAMP:20260425T063427
CREATED:20230712T210714Z
LAST-MODIFIED:20230712T210714Z
UID:13683-1734307200-1734479999@mountainsidemontessori.com
SUMMARY:Primary Transition Visits
DESCRIPTION:
URL:https://mountainsidemontessori.com/event/primary-transition-visits-2/
END:VEVENT
BEGIN:VEVENT
DTSTART;VALUE=DATE:20241209
DTEND;VALUE=DATE:20241214
DTSTAMP:20260425T063427
CREATED:20230712T210338Z
LAST-MODIFIED:20230712T210626Z
UID:13676-1733702400-1734134399@mountainsidemontessori.com
SUMMARY:Primary Transition Visits
DESCRIPTION:
URL:https://mountainsidemontessori.com/event/primary-transition-visits/
END:VEVENT
BEGIN:VEVENT
DTSTART;VALUE=DATE:20241208
DTEND;VALUE=DATE:20241209
DTSTAMP:20260425T063427
CREATED:20230712T210237Z
LAST-MODIFIED:20230712T210237Z
UID:13673-1733616000-1733702399@mountainsidemontessori.com
SUMMARY:Holiday Photos with Santa
DESCRIPTION:
URL:https://mountainsidemontessori.com/event/holiday-photos-with-santa-2/
END:VEVENT
BEGIN:VEVENT
DTSTART;VALUE=DATE:20241207
DTEND;VALUE=DATE:20241208
DTSTAMP:20260425T063427
CREATED:20230712T205847Z
LAST-MODIFIED:20230712T205847Z
UID:13667-1733529600-1733615999@mountainsidemontessori.com
SUMMARY:Marshall Christmas Parade
DESCRIPTION:
URL:https://mountainsidemontessori.com/event/marshall-christmas-parade-2/
END:VEVENT
BEGIN:VEVENT
DTSTART;VALUE=DATE:20241206
DTEND;VALUE=DATE:20241207
DTSTAMP:20260425T063427
CREATED:20230712T205738Z
LAST-MODIFIED:20230712T205738Z
UID:13664-1733443200-1733529599@mountainsidemontessori.com
SUMMARY:Warrenton Christmas Parade
DESCRIPTION:
URL:https://mountainsidemontessori.com/event/warrenton-christmas-parade-4/
END:VEVENT
BEGIN:VEVENT
DTSTART;VALUE=DATE:20241127
DTEND;VALUE=DATE:20241130
DTSTAMP:20260425T063427
CREATED:20230712T204952Z
LAST-MODIFIED:20230712T205304Z
UID:13654-1732665600-1732924799@mountainsidemontessori.com
SUMMARY:Thanksgiving Break
DESCRIPTION:
URL:https://mountainsidemontessori.com/event/thanksgiving-break-5/
END:VEVENT
BEGIN:VEVENT
DTSTART;VALUE=DATE:20241115
DTEND;VALUE=DATE:20241116
DTSTAMP:20260425T063427
CREATED:20230712T204718Z
LAST-MODIFIED:20230712T204718Z
UID:13651-1731628800-1731715199@mountainsidemontessori.com
SUMMARY:Family Gardening and Groundskeeping Day
DESCRIPTION:
URL:https://mountainsidemontessori.com/event/family-gardening-and-groundskeeping-day-15/
END:VEVENT
BEGIN:VEVENT
DTSTART;VALUE=DATE:20241111
DTEND;VALUE=DATE:20241112
DTSTAMP:20260425T063427
CREATED:20230712T204552Z
LAST-MODIFIED:20230712T204552Z
UID:13648-1731283200-1731369599@mountainsidemontessori.com
SUMMARY:Parent Guide Conferences - No School for Students
DESCRIPTION:
URL:https://mountainsidemontessori.com/event/parent-guide-conferences-no-school-for-students-9/
END:VEVENT
BEGIN:VEVENT
DTSTART;TZID=America/New_York:20241109T100000
DTEND;TZID=America/New_York:20241109T140000
DTSTAMP:20260425T063427
CREATED:20230712T204428Z
LAST-MODIFIED:20230712T204428Z
UID:13645-1731146400-1731160800@mountainsidemontessori.com
SUMMARY:Open House
DESCRIPTION:
URL:https://mountainsidemontessori.com/event/open-house-21/
END:VEVENT
BEGIN:VEVENT
DTSTART;VALUE=DATE:20241108
DTEND;VALUE=DATE:20241109
DTSTAMP:20260425T063427
CREATED:20230712T204334Z
LAST-MODIFIED:20230712T204334Z
UID:13642-1731024000-1731110399@mountainsidemontessori.com
SUMMARY:Parent Guide Conferences
DESCRIPTION:
URL:https://mountainsidemontessori.com/event/parent-guide-conferences-8/
END:VEVENT
BEGIN:VEVENT
DTSTART;VALUE=DATE:20241105
DTEND;VALUE=DATE:20241106
DTSTAMP:20260425T063427
CREATED:20230712T204054Z
LAST-MODIFIED:20230712T204054Z
UID:13639-1730764800-1730851199@mountainsidemontessori.com
SUMMARY:Parent Child Night
DESCRIPTION:
URL:https://mountainsidemontessori.com/event/parent-child-night-11/
END:VEVENT
BEGIN:VEVENT
DTSTART;VALUE=DATE:20241101
DTEND;VALUE=DATE:20241102
DTSTAMP:20260425T063427
CREATED:20230712T203925Z
LAST-MODIFIED:20230712T203925Z
UID:13636-1730419200-1730505599@mountainsidemontessori.com
SUMMARY:Guide and Staff Work Day - No School for Students
DESCRIPTION:
URL:https://mountainsidemontessori.com/event/guide-and-staff-work-day-no-school-for-students-7/
END:VEVENT
BEGIN:VEVENT
DTSTART;VALUE=DATE:20241026
DTEND;VALUE=DATE:20241027
DTSTAMP:20260425T063427
CREATED:20230712T203804Z
LAST-MODIFIED:20230712T203804Z
UID:13633-1729900800-1729987199@mountainsidemontessori.com
SUMMARY:Fall Festival Rain Date
DESCRIPTION:
URL:https://mountainsidemontessori.com/event/fall-festival-rain-date-2/
END:VEVENT
BEGIN:VEVENT
DTSTART;VALUE=DATE:20241019
DTEND;VALUE=DATE:20241020
DTSTAMP:20260425T063427
CREATED:20230712T203700Z
LAST-MODIFIED:20230712T203700Z
UID:13630-1729296000-1729382399@mountainsidemontessori.com
SUMMARY:Fall Festival
DESCRIPTION:
URL:https://mountainsidemontessori.com/event/fall-festival-3/
END:VEVENT
BEGIN:VEVENT
DTSTART;VALUE=DATE:20241017
DTEND;VALUE=DATE:20241018
DTSTAMP:20260425T063427
CREATED:20230712T203607Z
LAST-MODIFIED:20230712T203607Z
UID:13627-1729123200-1729209599@mountainsidemontessori.com
SUMMARY:Coffee House
DESCRIPTION:
URL:https://mountainsidemontessori.com/event/coffee-house-3/
END:VEVENT
BEGIN:VEVENT
DTSTART;VALUE=DATE:20241014
DTEND;VALUE=DATE:20241015
DTSTAMP:20260425T063427
CREATED:20230712T203457Z
LAST-MODIFIED:20230712T203457Z
UID:13624-1728864000-1728950399@mountainsidemontessori.com
SUMMARY:No School
DESCRIPTION:
URL:https://mountainsidemontessori.com/event/no-school-14/
END:VEVENT
BEGIN:VEVENT
DTSTART;TZID=America/New_York:20241012T100000
DTEND;TZID=America/New_York:20241012T140000
DTSTAMP:20260425T063427
CREATED:20230712T203407Z
LAST-MODIFIED:20230712T203407Z
UID:13621-1728727200-1728741600@mountainsidemontessori.com
SUMMARY:Open House
DESCRIPTION:
URL:https://mountainsidemontessori.com/event/open-house-20/
END:VEVENT
BEGIN:VEVENT
DTSTART;TZID=America/New_York:20241010T083000
DTEND;TZID=America/New_York:20241010T103000
DTSTAMP:20260425T063427
CREATED:20230712T203214Z
LAST-MODIFIED:20230712T203307Z
UID:13616-1728549000-1728556200@mountainsidemontessori.com
SUMMARY:Community Breakfast
DESCRIPTION:
URL:https://mountainsidemontessori.com/event/community-breakfast/
END:VEVENT
BEGIN:VEVENT
DTSTART;VALUE=DATE:20241007
DTEND;VALUE=DATE:20241008
DTSTAMP:20260425T063427
CREATED:20230712T202945Z
LAST-MODIFIED:20230712T202945Z
UID:13613-1728259200-1728345599@mountainsidemontessori.com
SUMMARY:Cox Farms Field Trip
DESCRIPTION:
URL:https://mountainsidemontessori.com/event/cox-farms-field-trip/
END:VEVENT
BEGIN:VEVENT
DTSTART;VALUE=DATE:20241004
DTEND;VALUE=DATE:20241005
DTSTAMP:20260425T063427
CREATED:20230712T202755Z
LAST-MODIFIED:20230712T202755Z
UID:13610-1728000000-1728086399@mountainsidemontessori.com
SUMMARY:Family Gardening and Groundskeeping Day
DESCRIPTION:
URL:https://mountainsidemontessori.com/event/family-gardening-and-groundskeeping-day-14/
END:VEVENT
BEGIN:VEVENT
DTSTART;VALUE=DATE:20241002
DTEND;VALUE=DATE:20241003
DTSTAMP:20260425T063427
CREATED:20230712T202642Z
LAST-MODIFIED:20230712T202642Z
UID:13607-1727827200-1727913599@mountainsidemontessori.com
SUMMARY:Individual Picture Retakes
DESCRIPTION:
URL:https://mountainsidemontessori.com/event/individual-picture-retakes-5/
END:VEVENT
BEGIN:VEVENT
DTSTART;TZID=America/New_York:20240925T090000
DTEND;TZID=America/New_York:20240925T120000
DTSTAMP:20260425T063427
CREATED:20230712T202446Z
LAST-MODIFIED:20230712T202446Z
UID:13604-1727254800-1727265600@mountainsidemontessori.com
SUMMARY:Primary Speech Screenings
DESCRIPTION:
URL:https://mountainsidemontessori.com/event/primary-speech-screenings-4/
END:VEVENT
BEGIN:VEVENT
DTSTART;TZID=America/New_York:20240920T173000
DTEND;TZID=America/New_York:20240920T190000
DTSTAMP:20260425T063427
CREATED:20240920T172429Z
LAST-MODIFIED:20240920T172437Z
UID:14232-1726853400-1726858800@mountainsidemontessori.com
SUMMARY:Parent Wine & Cheese
DESCRIPTION:
URL:https://mountainsidemontessori.com/event/parent-wine-cheese/
END:VEVENT
BEGIN:VEVENT
DTSTART;TZID=America/New_York:20240920T084500
DTEND;TZID=America/New_York:20240920T094500
DTSTAMP:20260425T063427
CREATED:20240920T172254Z
LAST-MODIFIED:20240920T172254Z
UID:14228-1726821900-1726825500@mountainsidemontessori.com
SUMMARY:Parent Coffee
DESCRIPTION:
URL:https://mountainsidemontessori.com/event/parent-coffee/
LOCATION:Adolescent Deck
END:VEVENT
BEGIN:VEVENT
DTSTART;TZID=America/New_York:20240920T083000
DTEND;TZID=America/New_York:20240920T120000
DTSTAMP:20260425T063427
CREATED:20230712T202325Z
LAST-MODIFIED:20230712T202325Z
UID:13601-1726821000-1726833600@mountainsidemontessori.com
SUMMARY:Grandparents Day (Early Dismissal)
DESCRIPTION:
URL:https://mountainsidemontessori.com/event/grandparents-day-early-dismissal/
END:VEVENT
BEGIN:VEVENT
DTSTART;VALUE=DATE:20240920
DTEND;VALUE=DATE:20240922
DTSTAMP:20260425T063427
CREATED:20230712T202156Z
LAST-MODIFIED:20230712T202156Z
UID:13598-1726790400-1726963199@mountainsidemontessori.com
SUMMARY:Silent Journey
DESCRIPTION:
URL:https://mountainsidemontessori.com/event/silent-journey-6/
END:VEVENT
BEGIN:VEVENT
DTSTART;VALUE=DATE:20240918
DTEND;VALUE=DATE:20240919
DTSTAMP:20260425T063427
CREATED:20230712T201255Z
LAST-MODIFIED:20230712T201255Z
UID:13595-1726617600-1726703999@mountainsidemontessori.com
SUMMARY:Individual Pictures
DESCRIPTION:
URL:https://mountainsidemontessori.com/event/individual-pictures-2/
END:VEVENT
BEGIN:VEVENT
DTSTART;TZID=America/New_York:20240914T100000
DTEND;TZID=America/New_York:20240914T140000
DTSTAMP:20260425T063427
CREATED:20230712T201157Z
LAST-MODIFIED:20230712T201157Z
UID:13592-1726308000-1726322400@mountainsidemontessori.com
SUMMARY:Open House
DESCRIPTION:
URL:https://mountainsidemontessori.com/event/open-house-19/
END:VEVENT
END:VCALENDAR